BEGIN:VCALENDAR
VERSION:2.0
PRODID:-//Home - Villa wirklich - ECPv6.15.19//NONSGML v1.0//EN
CALSCALE:GREGORIAN
METHOD:PUBLISH
X-ORIGINAL-URL:https://villa-wirklich.de
X-WR-CALDESC:Veranstaltungen für Home - Villa wirklich
REFRESH-INTERVAL;VALUE=DURATION:PT1H
X-Robots-Tag:noindex
X-PUBLISHED-TTL:PT1H
BEGIN:VTIMEZONE
TZID:Europe/Berlin
BEGIN:DAYLIGHT
TZOFFSETFROM:+0100
TZOFFSETTO:+0200
TZNAME:CEST
DTSTART:20230326T010000
END:DAYLIGHT
BEGIN:STANDARD
TZOFFSETFROM:+0200
TZOFFSETTO:+0100
TZNAME:CET
DTSTART:20231029T010000
END:STANDARD
BEGIN:DAYLIGHT
TZOFFSETFROM:+0100
TZOFFSETTO:+0200
TZNAME:CEST
DTSTART:20240331T010000
END:DAYLIGHT
BEGIN:STANDARD
TZOFFSETFROM:+0200
TZOFFSETTO:+0100
TZNAME:CET
DTSTART:20241027T010000
END:STANDARD
BEGIN:DAYLIGHT
TZOFFSETFROM:+0100
TZOFFSETTO:+0200
TZNAME:CEST
DTSTART:20250330T010000
END:DAYLIGHT
BEGIN:STANDARD
TZOFFSETFROM:+0200
TZOFFSETTO:+0100
TZNAME:CET
DTSTART:20251026T010000
END:STANDARD
END:VTIMEZONE
BEGIN:VEVENT
DTSTART;TZID=Europe/Berlin:20241221T093000
DTEND;TZID=Europe/Berlin:20241221T143000
DTSTAMP:20260423T181055
CREATED:20240321T112239Z
LAST-MODIFIED:20241114T143537Z
UID:237540-1734773400-1734791400@villa-wirklich.de
SUMMARY:WORKSHOP: Sketch & Reflect - Mit Stift und Wertschätzung in den Jahreswechsel
DESCRIPTION:Erlerne die Sketchnote-Basics und schaffe Klarheit mit dem Stift\nTauche in die Welt der Sketchnotes und visualisiere all das\, was dir zum Ende des Jahres wichtig ist. Anstatt den Jahreswechsel vorbeiziehen zu lassen\, darfst du dir bewusst Zeit nehmen und mit dem Stift reflektieren: Worauf blicke ich im vergangenen Jahr zurück? Was davon möchte ich wertschätzen? Wovon darf es im kommenden Jahr mehr sein? \nIm Workshop erlernst du dabei Schritt-für-Schritt die Grundlagen des Sketchnotings. Du erfährst wie du mit einer Kombi aus Text\, einfachen Symbolen und Grafikelementen deine Ideen und Gedanken auf dem Papier zum Leben erweckst. Dafür brauchst du keine zeichnerischen Vorkenntnisse. Zum Abschluss kreierst du deine eigene und ganz persönliche Sketchnote\, die all das festhält\, was dir wichtig ist und worauf du mit Freude und Dankbarkeit blicken kannst. Die erlernten Basics kannst du auch beruflich vielseitig anwenden: für deine Notizen in Meetings\, um schnell etwas merkbar auf einem Flipchart festzuhalten oder eine Idee im Team für andere mit wenigen Strichen verständlich zu machen. \nBereit\, deine Gedanken auf einprägsame Weise zum Ausdruck zu bringen? Wir freuen uns darauf\, gemeinsam mit dir in die Welt der Sketchnotes einzutauchen! \nWir begleiten dich: \nFrances Blüml – macht Wissen & Ideen mit dem Stift sichtbar und lebendig\, Visual Facilitation\, Wien\, www.visuellgedacht.com \nVerena Frohs – begleitet HR-\, Führungs- & Team-Arbeit\, Systemisches Coaching\, Dresden\, www.furdiren.de \nUm auf angenehme Weise arbeiten zu können\, ist der Workshop für max. 8 Teilnehmende geplant. Er findet ab 3 Anmeldungen statt. \nFür Frühbucher bis 31.10.2024 gibt es den Workshop zum Preis von 140 EUR (der reguläre Preis beträgt 160 EUR). \nIm Preis sind neben der Mehrwertsteuer enthalten: \n\nArbeitsmaterial vor Ort\nkleines Starter-Kit mit Profistiften für Sketchnotes zum Mitnehmen\nFotodokumentation als Anleitung für danach\nSnacks und Getränke\n\n  \nWorkshop-Buchungen bitte per E-Mail an: vfrohs@furdiren.de \nDu hast noch Fragen? Rufe gern an: +49 174 3631186 (Verena Frohs) \nDu möchtest jemanden eine Freude bereiten? Für diesen Workshop kannst du ebenso einen Geschenkgutschein erwerben\, den wir dir zeitnah in digitaler Form zur Verfügung stellen.
URL:https://villa-wirklich.de/event/workshop-sketch-reflect-mit-stift-und-wertschaetzung-in-den-jahreswechsel/
LOCATION:Villa wirklich\, Bischofsweg 6\, Dresden\, 01097\, Deutschland
ATTACH;FMTTYPE=image/jpeg:https://villa-wirklich.de/wp-content/uploads/2024/03/WS_Sketch__Reflect_Dez_24.jpg
END:VEVENT
END:VCALENDAR